BEGIN:VCALENDAR
VERSION:2.0
PRODID:-//Brucemore - ECPv6.11.2.1//NONSGML v1.0//EN
CALSCALE:GREGORIAN
METHOD:PUBLISH
X-ORIGINAL-URL:https://www.brucemore.org
X-WR-CALDESC:Events for Brucemore
REFRESH-INTERVAL;VALUE=DURATION:PT1H
X-Robots-Tag:noindex
X-PUBLISHED-TTL:PT1H
BEGIN:VTIMEZONE
TZID:America/Chicago
BEGIN:DAYLIGHT
TZOFFSETFROM:-0600
TZOFFSETTO:-0500
TZNAME:CDT
DTSTART:20260308T080000
END:DAYLIGHT
BEGIN:STANDARD
TZOFFSETFROM:-0500
TZOFFSETTO:-0600
TZNAME:CST
DTSTART:20261101T070000
END:STANDARD
END:VTIMEZONE
BEGIN:VEVENT
DTSTART;TZID=America/Chicago:20260522T193000
DTEND;TZID=America/Chicago:20260522T220000
DTSTAMP:20260424T062721
CREATED:20260420T184109Z
LAST-MODIFIED:20260423T185456Z
UID:10014429-1779478200-1779487200@www.brucemore.org
SUMMARY:Live from the Artisan Studio: Vibe
DESCRIPTION:Vibe is a Cedar Rapids-based band made up of six longtime friends who have been performing together for over a decade. Known for their passion\, chemistry\, and ability to connect with audiences\, Vibe creates a welcoming\, inclusive atmosphere where everyone can share in the inspiration of music. Featuring Alicia Monee\, Kelsey Madsen\, Gerard Estella\, Greg Kanz\, EJ Swavv\, and Lincoln Ginsberg\, the group brings a fresh energy to the stage with classic songs reimagined through their unique sound and style. This special Live from the Artisan Studio performance will also include original songs from the band’s latest album\, which was recorded right here at Brucemore! Come vibe with them—you’ll feel the difference. \n\n\n\nEvent Dates: May 22 & 23 \nEvent Time: 7:30 PM | Gate opens at 7:00 PM \nEvent Location: Brucemore’s Carriage House Courtyard \nAdmission: \n\n\n\n\nAdults: $25\n\n\n\nStudents: $15\n\n\n\nBrucemore supporters receive a $5 discount per ticket. To use your discount\, please sign in using the link in the upper right corner of the purchase page or call (319) 362-7375.\n\n\n\nA $4.00 processing fee is applied to all online and phone orders.\n\nSeating: Chairs will be provided for this event. Seating is on a first-come basis. \nConcessions: Canned hard and soft beverages\, bottles of wine\, and light snacks will be available for purchase. \nSpace for this event is limited. Advance ticket purchase is recommended. Tickets may be purchased in person during mansion open hours or by calling 319-362-7375 to make an appointment to purchase at the Brucemore staff office. Tickets may be purchased at the event if available. \n\n\n\n \nWhat to expect from this event: \n\nCanned hard and soft beverages\, bottles of wine\, and light snacks will be available for purchase. Please do not bring outside food and beverages to this event.\nThe only gate that will open to vehicles for on-site parking is at 2160 Linden Drive SE. The gate will be open at 7:00 PM.\nPets are not allowed\, with the exception of service animals.\nThis event takes place outdoors\, mostly on pavement. Seats will be provided.\n\nWhat to do when you arrive: \n\nFollow signage to open parking spaces near the Carriage House or on the grounds of Brucemore. Accessible parking will be available.\nFollow instructions from Brucemore staff to parking spaces.\nCheck in with staff at the event entrance by providing the name on your order.\n\nTicket Policies: All ticket sales are non-refundable. Please read our ticket policy here. Online and phone orders are subject to a $4.00 processing fee per order. \nPhotography and Video Notice:  \nAt this event\, photography and videos may be recorded. By attending this event\, you may be included in these photos and videos. Your attendance at this event grants your permission to be in these photos or videos\, which may be used for educational\, archival\, or promotional purposes. If you have concerns about your likeness appearing in these photos and videos\, please talk to a staff member when you check in for the event.
URL:https://www.brucemore.org/event/live-from-the-artisan-studio-vibe/2026-05-22/
LOCATION:Brucemore’s Carriage House Courtyard\, 2160 Linden Dr. SE\, Cedar Rapids\, IA\, 52403\, United States
CATEGORIES:Tickets Required
ATTACH;FMTTYPE=image/jpeg:https://www.brucemore.org/wp-content/uploads/2026/04/Vibe-Calendar-Placeholder-Image-1.jpg
GEO:41.99178;-91.63694
X-APPLE-STRUCTURED-LOCATION;VALUE=URI;X-ADDRESS=Brucemore’s Carriage House Courtyard 2160 Linden Dr. SE Cedar Rapids IA 52403 United States;X-APPLE-RADIUS=500;X-TITLE=2160 Linden Dr. SE:geo:-91.63694,41.99178
END:VEVENT
BEGIN:VEVENT
DTSTART;TZID=America/Chicago:20260523T193000
DTEND;TZID=America/Chicago:20260523T220000
DTSTAMP:20260424T062721
CREATED:20260420T184109Z
LAST-MODIFIED:20260423T185456Z
UID:10014430-1779564600-1779573600@www.brucemore.org
SUMMARY:Live from the Artisan Studio: Vibe
DESCRIPTION:Vibe is a Cedar Rapids-based band made up of six longtime friends who have been performing together for over a decade. Known for their passion\, chemistry\, and ability to connect with audiences\, Vibe creates a welcoming\, inclusive atmosphere where everyone can share in the inspiration of music. Featuring Alicia Monee\, Kelsey Madsen\, Gerard Estella\, Greg Kanz\, EJ Swavv\, and Lincoln Ginsberg\, the group brings a fresh energy to the stage with classic songs reimagined through their unique sound and style. This special Live from the Artisan Studio performance will also include original songs from the band’s latest album\, which was recorded right here at Brucemore! Come vibe with them—you’ll feel the difference. \n\n\n\nEvent Dates: May 22 & 23 \nEvent Time: 7:30 PM | Gate opens at 7:00 PM \nEvent Location: Brucemore’s Carriage House Courtyard \nAdmission: \n\n\n\n\nAdults: $25\n\n\n\nStudents: $15\n\n\n\nBrucemore supporters receive a $5 discount per ticket. To use your discount\, please sign in using the link in the upper right corner of the purchase page or call (319) 362-7375.\n\n\n\nA $4.00 processing fee is applied to all online and phone orders.\n\nSeating: Chairs will be provided for this event. Seating is on a first-come basis. \nConcessions: Canned hard and soft beverages\, bottles of wine\, and light snacks will be available for purchase. \nSpace for this event is limited. Advance ticket purchase is recommended. Tickets may be purchased in person during mansion open hours or by calling 319-362-7375 to make an appointment to purchase at the Brucemore staff office. Tickets may be purchased at the event if available. \n\n\n\n \nWhat to expect from this event: \n\nCanned hard and soft beverages\, bottles of wine\, and light snacks will be available for purchase. Please do not bring outside food and beverages to this event.\nThe only gate that will open to vehicles for on-site parking is at 2160 Linden Drive SE. The gate will be open at 7:00 PM.\nPets are not allowed\, with the exception of service animals.\nThis event takes place outdoors\, mostly on pavement. Seats will be provided.\n\nWhat to do when you arrive: \n\nFollow signage to open parking spaces near the Carriage House or on the grounds of Brucemore. Accessible parking will be available.\nFollow instructions from Brucemore staff to parking spaces.\nCheck in with staff at the event entrance by providing the name on your order.\n\nTicket Policies: All ticket sales are non-refundable. Please read our ticket policy here. Online and phone orders are subject to a $4.00 processing fee per order. \nPhotography and Video Notice:  \nAt this event\, photography and videos may be recorded. By attending this event\, you may be included in these photos and videos. Your attendance at this event grants your permission to be in these photos or videos\, which may be used for educational\, archival\, or promotional purposes. If you have concerns about your likeness appearing in these photos and videos\, please talk to a staff member when you check in for the event.
URL:https://www.brucemore.org/event/live-from-the-artisan-studio-vibe/2026-05-23/
LOCATION:Brucemore’s Carriage House Courtyard\, 2160 Linden Dr. SE\, Cedar Rapids\, IA\, 52403\, United States
CATEGORIES:Tickets Required
ATTACH;FMTTYPE=image/jpeg:https://www.brucemore.org/wp-content/uploads/2026/04/Vibe-Calendar-Placeholder-Image-1.jpg
GEO:41.99178;-91.63694
X-APPLE-STRUCTURED-LOCATION;VALUE=URI;X-ADDRESS=Brucemore’s Carriage House Courtyard 2160 Linden Dr. SE Cedar Rapids IA 52403 United States;X-APPLE-RADIUS=500;X-TITLE=2160 Linden Dr. SE:geo:-91.63694,41.99178
END:VEVENT
END:VCALENDAR