BEGIN:VCALENDAR
VERSION:2.0
PRODID:-//Brucemore - ECPv6.11.2.1//NONSGML v1.0//EN
CALSCALE:GREGORIAN
METHOD:PUBLISH
X-WR-CALNAME:Brucemore
X-ORIGINAL-URL:https://www.brucemore.org
X-WR-CALDESC:Events for Brucemore
REFRESH-INTERVAL;VALUE=DURATION:PT1H
X-Robots-Tag:noindex
X-PUBLISHED-TTL:PT1H
BEGIN:VTIMEZONE
TZID:America/Chicago
BEGIN:DAYLIGHT
TZOFFSETFROM:-0600
TZOFFSETTO:-0500
TZNAME:CDT
DTSTART:20240310T080000
END:DAYLIGHT
BEGIN:STANDARD
TZOFFSETFROM:-0500
TZOFFSETTO:-0600
TZNAME:CST
DTSTART:20241103T070000
END:STANDARD
END:VTIMEZONE
BEGIN:VEVENT
DTSTART;TZID=America/Chicago:20240705T183000
DTEND;TZID=America/Chicago:20240705T193000
DTSTAMP:20260420T082239
CREATED:20240430T170019Z
LAST-MODIFIED:20240503T213403Z
UID:10007395-1720204200-1720207800@www.brucemore.org
SUMMARY:Don’t Let the Pigeon Drive the Bus! - TCR Outdoors at Brucemore
DESCRIPTION:Join us for a special TCR Out of Doors youth theatre presentation of Don’t Let the Pigeon Drive the Bus!  — July 5-21 at Brucemore’s beautiful Peggy Boyle Whitworth Amphitheatre.  \nWhatever you do\, don’t let the Pigeon star in his own musical production! With a script by Mo Willems\, Don’t Let the Pigeon Drive the Bus! is even more fun than staying up late and having a hot dog party! It’s not easy being the Pigeon – you never get to do ANYTHING! But when the Bus Driver has a crisis that threatens to make her passengers (gasp!) late\, maybe that wily bird CAN do something. \nBased on the #1 New York Times best-selling\, Caldecott Honor award-winning “Pigeon” picture books. Written by Mo Willems and Mr. Warburton\, lyrics by Mo Willems and music by Deborah Wicks La Puma (Elephant & Piggie’s We Are in a Play!). \nTickets are sold through the TCR box office. Please call 319-366-8591 with any inquiries. \nAdmission: \n\nYouth 2 and under: $13\nYouth 3-12: $18\nAdults: $29\nTicket purchases include a $3 processing fee.\nTCR subscribers receive a 25% discount. Discount codes are sent via email and may be used online. Subscribers may also contact the TCR box office at tickets@theatrecr.org to redeem this benefit.\nBrucemore members also receive a discount. Contact Brucemore to receive a special code. Call 319-362-7375.
URL:https://www.brucemore.org/event/dont-let-the-pigeon-drive-the-bus-tcr-outdoors-at-brucemore/2024-07-05/
LOCATION:Brucemore\, 2160 Linden Dr SE\, Cedar Rapids\, IA\, 52403\, United States
CATEGORIES:Tickets Required
ATTACH;FMTTYPE=image/jpeg:https://www.brucemore.org/wp-content/uploads/2024/04/Pigeon-Banner-reduced-scaled-e1714509431662.jpg
ORGANIZER;CN="Theatre Cedar Rapids":MAILTO:tickets@theatrecr.org
END:VEVENT
BEGIN:VEVENT
DTSTART;TZID=America/Chicago:20240706T183000
DTEND;TZID=America/Chicago:20240706T193000
DTSTAMP:20260420T082239
CREATED:20240430T170019Z
LAST-MODIFIED:20240503T213403Z
UID:10007396-1720290600-1720294200@www.brucemore.org
SUMMARY:Don’t Let the Pigeon Drive the Bus! - TCR Outdoors at Brucemore
DESCRIPTION:Join us for a special TCR Out of Doors youth theatre presentation of Don’t Let the Pigeon Drive the Bus!  — July 5-21 at Brucemore’s beautiful Peggy Boyle Whitworth Amphitheatre.  \nWhatever you do\, don’t let the Pigeon star in his own musical production! With a script by Mo Willems\, Don’t Let the Pigeon Drive the Bus! is even more fun than staying up late and having a hot dog party! It’s not easy being the Pigeon – you never get to do ANYTHING! But when the Bus Driver has a crisis that threatens to make her passengers (gasp!) late\, maybe that wily bird CAN do something. \nBased on the #1 New York Times best-selling\, Caldecott Honor award-winning “Pigeon” picture books. Written by Mo Willems and Mr. Warburton\, lyrics by Mo Willems and music by Deborah Wicks La Puma (Elephant & Piggie’s We Are in a Play!). \nTickets are sold through the TCR box office. Please call 319-366-8591 with any inquiries. \nAdmission: \n\nYouth 2 and under: $13\nYouth 3-12: $18\nAdults: $29\nTicket purchases include a $3 processing fee.\nTCR subscribers receive a 25% discount. Discount codes are sent via email and may be used online. Subscribers may also contact the TCR box office at tickets@theatrecr.org to redeem this benefit.\nBrucemore members also receive a discount. Contact Brucemore to receive a special code. Call 319-362-7375.
URL:https://www.brucemore.org/event/dont-let-the-pigeon-drive-the-bus-tcr-outdoors-at-brucemore/2024-07-06/
LOCATION:Brucemore\, 2160 Linden Dr SE\, Cedar Rapids\, IA\, 52403\, United States
CATEGORIES:Tickets Required
ATTACH;FMTTYPE=image/jpeg:https://www.brucemore.org/wp-content/uploads/2024/04/Pigeon-Banner-reduced-scaled-e1714509431662.jpg
ORGANIZER;CN="Theatre Cedar Rapids":MAILTO:tickets@theatrecr.org
END:VEVENT
END:VCALENDAR