BEGIN:VCALENDAR
VERSION:2.0
PRODID:-//Brucemore - ECPv6.11.2.1//NONSGML v1.0//EN
CALSCALE:GREGORIAN
METHOD:PUBLISH
X-ORIGINAL-URL:https://www.brucemore.org
X-WR-CALDESC:Events for Brucemore
REFRESH-INTERVAL;VALUE=DURATION:PT1H
X-Robots-Tag:noindex
X-PUBLISHED-TTL:PT1H
BEGIN:VTIMEZONE
TZID:America/Chicago
BEGIN:DAYLIGHT
TZOFFSETFROM:-0600
TZOFFSETTO:-0500
TZNAME:CDT
DTSTART:20240310T080000
END:DAYLIGHT
BEGIN:STANDARD
TZOFFSETFROM:-0500
TZOFFSETTO:-0600
TZNAME:CST
DTSTART:20241103T070000
END:STANDARD
END:VTIMEZONE
BEGIN:VEVENT
DTSTART;TZID=America/Chicago:20240628T180000
DTEND;TZID=America/Chicago:20240628T180000
DTSTAMP:20260420T051732
CREATED:20240503T212330Z
LAST-MODIFIED:20240624T141429Z
UID:10007420-1719597600-1719597600@www.brucemore.org
SUMMARY:SOLD OUT - Art at Brucemore: Friday Night Out
DESCRIPTION:It’s time to get creative!\nJoin us for a Friday Night Out with the Iowa Ceramics Center and Glass Studio at Brucemore. This workshop is for guests 21+ and participants are welcome to BYOB. \nDuring this workshop\, participants will sculpt a beautiful\, fluted vase using various hand-building techniques and tools to create texture and movement in their creation. This project is perfect to personalize your potted plants! \nThis workshop is hosted in the Brucemore Carriage House. All instructions and materials are provided during the workshop. Following the workshop\, the instructor will take the projects to the Iowa Ceramics Center and Glass Studio\, add a white glaze to the projects\, and fire them in their kiln. Projects will be available for pick-up at the Iowa Ceramics Center and Glass Studio three weeks after the class date. \nPlease register by June 25 at 5:00 PM to reserve your spot. \nWhat to do when you arrive: \n\nPlease enter through the gate at 2160 Linden Dr. SE\, Cedar Rapids\, IA 52403\nOnce onsite\, please follow signs towards the Carriage House\, where there is on-site parking.\nPlease check-in with Brucemore staff in the Carriage House\n\nTips for your visit: \n\nPlease consider leaving bags or other larger personal items in your vehicle. A coat rack is available\, but it is not monitored during the workshop.\nAll ticket sales are non-refundable. Please read our ticket policy here.\nThis workshop is for guests 21 years of age and older. Guests are welcome to BYOB (bring your own beverage). No refreshments will be provided during the workshop.\n\n  \nPresented in Partnership With
URL:https://www.brucemore.org/event/art-at-brucemore-friday-night-out/
LOCATION:Brucemore\, 2160 Linden Dr SE\, Cedar Rapids\, IA\, 52403\, United States
CATEGORIES:Tickets Required
ATTACH;FMTTYPE=image/jpeg:https://www.brucemore.org/wp-content/uploads/2024/05/Art-at-Brucemore-Friday-Night-Out-WordPress-feature-image.jpg
END:VEVENT
END:VCALENDAR