BEGIN:VCALENDAR
VERSION:2.0
PRODID:-//Brucemore - ECPv6.11.2.1//NONSGML v1.0//EN
CALSCALE:GREGORIAN
METHOD:PUBLISH
X-ORIGINAL-URL:https://www.brucemore.org
X-WR-CALDESC:Events for Brucemore
REFRESH-INTERVAL;VALUE=DURATION:PT1H
X-Robots-Tag:noindex
X-PUBLISHED-TTL:PT1H
BEGIN:VTIMEZONE
TZID:America/Chicago
BEGIN:DAYLIGHT
TZOFFSETFROM:-0600
TZOFFSETTO:-0500
TZNAME:CDT
DTSTART:20210314T080000
END:DAYLIGHT
BEGIN:STANDARD
TZOFFSETFROM:-0500
TZOFFSETTO:-0600
TZNAME:CST
DTSTART:20211107T070000
END:STANDARD
END:VTIMEZONE
BEGIN:VEVENT
DTSTART;TZID=America/Chicago:20210912T130000
DTEND;TZID=America/Chicago:20210912T143000
DTSTAMP:20260420T113406
CREATED:20210423T230832Z
LAST-MODIFIED:20210903T190023Z
UID:10000981-1631451600-1631457000@www.brucemore.org
SUMMARY:Art at Brucemore: Ceramic Leaf Bowls
DESCRIPTION:Embrace your creativity! \nJoin iowa Ceramics Center in creating ceramic leaf bowls. Use the changing leaves of Brucemore as inspiration for your hand-made bowl. Pick up your creation after it has been fired and take it home to remember the event! Masks will be required for this event and tickets purchased together will be seated together. All materials and supplies will be provided. \nDate: Sunday\, September 12\, 1:00 – 2:30 p.m. \nAdmission: $30 per person (includes all materials) \n\nIMPORTANT INFORMATION FOR YOUR PARTICIPATION \n\nArrival: We ask that you arrive via our main entrance\, 2160 Linden Drive SE. There is on-site parking both near our Visitor Center and the mansion.\nSafety: Unvaccinated people are encouraged to wear masks at outdoor events. Guests will be seated at tables with members of their party. Masks will be required for all people regardless of vaccination status if weather requires moving it indoors. People may choose to continue wearing a mask at any time and are expected be respectful of other people. Free masks will be available. View our COVID policy here.\nCheck-in: Please check-in near the Visitor Center. If you selected Will Call\, your tickets will be available there.\nCapacity: The event is limited to 16 people per time.\nExplore: Visitors are encouraged to explore the grounds before or after the event. Brucemore’s Visitor Center will be closed due to COVID\, but restrooms will be available.\nWeather: The event will occur outside if the weather allows. If it is raining\, it will be held in the Visitor Center.\n\n\n\nA SPECIAL THANKS TO BRUCEMORE’S 2021 SUMMER SEASON SPONSORS:   \n\n$20\,000+ \nCedar Grove Signature Fund of the Greater Cedar Rapids Community Foundation \n$7\,500 \nCedar Rapids Bank & Trust\nCollins Aerospace \n$5\,000 \nBankers Trust\nGreenState Credit Union\nUFG Insurance\nUS Bank \n$2\,500 (Supporter)\nDakota Red Corporation | King’s Material Inc. | Hawkeye Ready Mix\nImOn Communications\nSimmons Perrine Moyer Bergman PLC\nMedia Sponsor\nCorridor Business Journal \nPrinting Sponsor \nMercy Medical Center
URL:https://www.brucemore.org/event/art-at-brucemore-ceramic-leaf-bowls/
LOCATION:Brucemore\, 2160 Linden Dr SE\, Cedar Rapids\, IA\, 52403\, United States
CATEGORIES:Tickets Required
ATTACH;FMTTYPE=image/png:https://www.brucemore.org/wp-content/uploads/2021/04/Ceramic-leaf-bowl-website-1.png
END:VEVENT
BEGIN:VEVENT
DTSTART;TZID=America/Chicago:20210914T190000
DTEND;TZID=America/Chicago:20210914T210000
DTSTAMP:20260420T113406
CREATED:20210729T215032Z
LAST-MODIFIED:20210914T152159Z
UID:10001286-1631646000-1631653200@www.brucemore.org
SUMMARY:Live from the Artisan Studio: Vandello (postponed)
DESCRIPTION:The performance has been rescheduled for September 28 at 7:00 p.m. All patrons will be contacted and tickets will be transferred to this performance.  \nTake a peek behind the curtain and witness music in the making at Brucemore’s Live from the Artisan Studio series. Enjoy acoustic performances from up and coming artists and hear about their work at Brucemore’s exclusive Artisan Studio. Bring your own snacks and drinks for a fun and relaxed evening of music. \nAdmission:  \n\n$15 per adult in advance\n$10 per student in advance\nBrucemore members receive a discount – please “sign-in” using the link in the upper right corner or call (319) 362-7375.\n\nAbout the Talent – Vandello \n\n\nA little bit early jazz\, a little bit modern swing\, and a whole lot of fun\, this cheeky trio is influenced by artists like Squirrel Nut Zippers\, Caro Emerald\, and Postmodern Jukebox\, but their fresh take on vintage sounds is completely their own. Their original tunes run the gamut from bouncy and boozy to “dark…but with a wink”. Folks often enthusiastically ask the band after their first Vandello experience\, “What the heck do you CALL that?” They call it Gypsy-Speakeasy. The Vandello trio includes Meghan Adam (lead vocals\, cajon\, percussion\, kazoo)\, Jared Adam (Guitar\, vocals\, kazoo) and Darrick “Big D” Chadima” (upright bass\, vocals). And it’s not uncommon to see the trio with some friends! Joining them at Brucemore will be Saul Lubaroff on saxophone and clarinet\, and Al Fear on drums. \n\n\n\n\n\n\nIMPORTANT INFORMATION FOR YOUR VISIT \n\nSafety: Unvaccinated people are encouraged to wear masks at outdoor events. People may choose to continue wearing a mask at any time and are expected be respectful of other people.Free masks will be available. View our COVID policy here.\nSeating: Bring your own blanket or chair. Spaces to allow distancing will be provided.\nFood and Beverages: You are welcome to bring your own light snacks and beverages (beer and wine allowed) to enjoy in the performance venue. Food and beverage will not be available for sale.\nPets: Pets are not allowed\, excluding service animals.\nWeather: The event occurs fully outdoors and may be held in light rain.\n\n\nA SPECIAL THANKS TO BRUCEMORE’S 2021 SUMMER SEASON SPONSORS:   \n$20\,000+ (Presenting)\nCedar Grove Signature Fund of the Greater Cedar Rapids Community Foundation$7\,500 (Leader)\nCedar Rapids Bank & Trust\nCollins Aerospace \n$5\,000 (Advocate)\nBankers Trust\nGreenState Credit Union\nUFG Insurance\nUS Bank \n\n\n$2\,500 (Supporter) \nDakota Red Corporation | King’s Material Inc. | Hawkeye Ready Mix \nImOn Communications\nSimmons Perrine Moyer Bergman PLC \n\n\n\nMedia Sponsor\nCorridor Business Journal\n\n \nPrint Sponsor\nMercy Medical Center
URL:https://www.brucemore.org/event/live-from-the-artisan-studio-vandello/
LOCATION:Brucemore\, 2160 Linden Dr SE\, Cedar Rapids\, IA\, 52403\, United States
CATEGORIES:Tickets Required
ATTACH;FMTTYPE=image/jpeg:https://www.brucemore.org/wp-content/uploads/2021/07/ArtisanStudio-Vandello-3.jpg
END:VEVENT
END:VCALENDAR