BEGIN:VCALENDAR
VERSION:2.0
PRODID:-//Brucemore - ECPv6.11.2.1//NONSGML v1.0//EN
CALSCALE:GREGORIAN
METHOD:PUBLISH
X-ORIGINAL-URL:https://www.brucemore.org
X-WR-CALDESC:Events for Brucemore
REFRESH-INTERVAL;VALUE=DURATION:PT1H
X-Robots-Tag:noindex
X-PUBLISHED-TTL:PT1H
BEGIN:VTIMEZONE
TZID:America/Chicago
BEGIN:DAYLIGHT
TZOFFSETFROM:-0600
TZOFFSETTO:-0500
TZNAME:CDT
DTSTART:20210314T080000
END:DAYLIGHT
BEGIN:STANDARD
TZOFFSETFROM:-0500
TZOFFSETTO:-0600
TZNAME:CST
DTSTART:20211107T070000
END:STANDARD
END:VTIMEZONE
BEGIN:VEVENT
DTSTART;TZID=America/Chicago:20210713T190000
DTEND;TZID=America/Chicago:20210713T203000
DTSTAMP:20260420T114958
CREATED:20210423T230722Z
LAST-MODIFIED:20210714T180854Z
UID:10001133-1626202800-1626208200@www.brucemore.org
SUMMARY:Live from the Artisan Studio
DESCRIPTION:Take a peek behind the curtain and witness music in the making at Brucemore’s Live from the Artisan Studio series. Enjoy acoustic performances from up and coming artists and hear about their work at Brucemore’s exclusive Artisan Studio. Bring your own snacks and drinks for a fun and relaxed evening of music. \nAdmission:  \n\n$15 per adult in advance\n$10 per student in advance\nBrucemore members receive a discount – please “sign-in” using the link in the upper right corner or call (319) 362-7375.\nNo tickets will be for sale at the event.\n\nAbout the Talent – Erika Bailey \nYou’ve probably heard Erika Bailey in the Eastern Iowa music scene over the last few years\, but the Artisan Studio offers a unique chance to hear her original work. While her degree is in theatre from the University of Northern Iowa\, she has been cast in a variety of roles\, but none as rewarding as songwriter. Through a mix of country\, folk\, and pop\, she is ready to share her voice and tell her musical story. \n\n\n\n\nIMPORTANT INFORMATION FOR YOUR VISIT \nSafety: People may choose to continue wearing a mask at any time and are expected be respectful of other people. All people are kindly encouraged to wear masks. Free masks will be available. \n\nSeating: Bring your own blanket or chair. Spaces to allow distancing will be provided. \nFood and Beverages: You are welcome to bring your own light snacks and beverages (beer and wine allowed) to enjoy in the performance venue. Food and beverage will not be available for sale. \nPets: Pets are not allowed\, excluding service animals. \nWeather: The event occurs fully outdoors and may be held in light rain. \n\n\nA SPECIAL THANKS TO BRUCEMORE’S 2021 SUMMER SEASON SPONSORS:   \n$20\,000+ (Presenting)\nCedar Grove Signature Fund of the Greater Cedar Rapids Community Foundation$7\,500 (Leader)\nCedar Rapids Bank & Trust\nCollins Aerospace$5\,000 (Advocate)\nBankers Trust\nGreenState Credit Union\nUFG Insurance\nUS Bank \n$2\,500 (Supporter) \n\nDakota Red Corporation | King’s Material Inc. | Hawkeye Ready Mix\nImOn Communications\nSimmons Perrine Moyer Bergman PLC\n\nMedia Sponsor\nCorridor Business Journal\n\n \nPrint Sponsor\nMercy Medical Center
URL:https://www.brucemore.org/event/live-from-the-artisan-studio/
LOCATION:Brucemore\, 2160 Linden Dr SE\, Cedar Rapids\, IA\, 52403\, United States
CATEGORIES:Tickets Required
ATTACH;FMTTYPE=image/jpeg:https://www.brucemore.org/wp-content/uploads/2021/05/EB-Headshot.jpg
END:VEVENT
END:VCALENDAR