BEGIN:VCALENDAR
VERSION:2.0
PRODID:-//Brucemore - ECPv6.11.2.1//NONSGML v1.0//EN
CALSCALE:GREGORIAN
METHOD:PUBLISH
X-ORIGINAL-URL:https://www.brucemore.org
X-WR-CALDESC:Events for Brucemore
REFRESH-INTERVAL;VALUE=DURATION:PT1H
X-Robots-Tag:noindex
X-PUBLISHED-TTL:PT1H
BEGIN:VTIMEZONE
TZID:America/Chicago
BEGIN:DAYLIGHT
TZOFFSETFROM:-0600
TZOFFSETTO:-0500
TZNAME:CDT
DTSTART:20210314T080000
END:DAYLIGHT
BEGIN:STANDARD
TZOFFSETFROM:-0500
TZOFFSETTO:-0600
TZNAME:CST
DTSTART:20211107T070000
END:STANDARD
END:VTIMEZONE
BEGIN:VEVENT
DTSTART;TZID=America/Chicago:20210613T103000
DTEND;TZID=America/Chicago:20210613T143000
DTSTAMP:20260420T132304
CREATED:20210511T194048Z
LAST-MODIFIED:20210511T194048Z
UID:10000979-1623580200-1623594600@www.brucemore.org
SUMMARY:Art at Brucemore: Glass Garden Stake Workshop
DESCRIPTION:Celebrate the beauty of Brucemore’s grounds and embrace your creativity!  \nJoin iowa Ceramics Center in creating glass garden stakes on the historic grounds of Brucemore. We will contact you when it is time to pick up your creation from the iowa Ceramics Center to take it home to decorate your own flower bed!  \nMasks will be required for this event and tickets purchased together will be seated together. Capacity is limited. All materials and supplies will be provided. \nOptions:  \n\nJune 13\, 10:30 – 12:00 p.m.\nJune 13\, 1:00 – 2:30 p.m.\n\nAdmission: $35 per person (includes all materials)  \n\nIMPORTANT INFORMATION FOR YOUR PARTICIPATION \n\n\nArrival: We ask that you arrive via our main entrance\, 2160 Linden Drive SE. There is on-site parking both near our Visitor Center and the mansion.  \n\n\nCheck-in: Please check-in near the Visitor Center.  \n\n\nExplore: Visitors are encouraged to explore the grounds before or after the event. Brucemore’s Visitor Center will be closed due to COVID\, but restrooms will be available.  \n\n\nWeather: The event will occur outside if the weather allows. If it is raining\, it will be held in the Visitor Center. \n\n\nTicket policies: All ticket sales are non-refundable. Tickets to Brucemore produced programs may be returned up to 24 hours prior to the program as a tax-deductible contribution or as an exchange for a different date or time of the same program\, subject to availability. Other policies may vary. Click here to read more.  \n\n\n\nA SPECIAL THANKS TO BRUCEMORE’S 2021 SUMMER SEASON SPONSORS:   \n$20\,000+ (Presenting)Cedar Grove Signature Fund of the Greater Cedar Rapids Community Foundation \n$7\,500 (Leader)Cedar Rapids Bank & TrustCollins Aerospace \n$5\,000 (Advocate)Bankers TrustGreenState Credit UnionUFG InsuranceUS Bank \n$2\,500 (Supporter)ImOn CommunicationsSimmons Perrine Moyer Bergman PLC \nMedia SponsorCorridor Business Journal
URL:https://www.brucemore.org/event/art-at-brucemore-glass-garden-stake-workshop/
LOCATION:Brucemore’s Carriage House\, 2160 Linden Dr SE\, Cedar Rapids\, IA\, 52403\, United States
CATEGORIES:Tickets Required
GEO:41.99175;-91.63672
X-APPLE-STRUCTURED-LOCATION;VALUE=URI;X-ADDRESS=Brucemore’s Carriage House 2160 Linden Dr SE Cedar Rapids IA 52403 United States;X-APPLE-RADIUS=500;X-TITLE=2160 Linden Dr SE:geo:-91.63672,41.99175
END:VEVENT
BEGIN:VEVENT
DTSTART;TZID=America/Chicago:20210621T090000
DTEND;TZID=America/Chicago:20210625T130000
DTSTAMP:20260420T132304
CREATED:20210423T232903Z
LAST-MODIFIED:20210513T215626Z
UID:10001268-1624266000-1624626000@www.brucemore.org
SUMMARY:TCR Outdoor Summer Theatre Camp
DESCRIPTION:This summer\, children ages through through high school students will have a new opportunity to enjoy the outdoors at Brucemore while enjoying a variety of TCR Summer Theatre Camps. The camps offer memorable theatre education experience while building life and performance skills like confidence\, connection\, and empathy in a safe and inclusive environment. Learn more about the camps and register online. \n  \n  \n 
URL:https://www.brucemore.org/event/tcr-outdoor-summer-theatre-camp-2/
LOCATION:Brucemore\, 2160 Linden Dr SE\, Cedar Rapids\, IA\, 52403\, United States
CATEGORIES:Tickets Required
END:VEVENT
END:VCALENDAR